BEGIN:VCALENDAR
VERSION:2.0
PRODID:-//Snowden's Mill HOA - ECPv6.15.20//NONSGML v1.0//EN
CALSCALE:GREGORIAN
METHOD:PUBLISH
X-WR-CALNAME:Snowden's Mill HOA
X-ORIGINAL-URL:http://www.snowdensmill.org
X-WR-CALDESC:Events for Snowden's Mill HOA
REFRESH-INTERVAL;VALUE=DURATION:PT1H
X-Robots-Tag:noindex
X-PUBLISHED-TTL:PT1H
BEGIN:VTIMEZONE
TZID:UTC
BEGIN:STANDARD
TZOFFSETFROM:+0000
TZOFFSETTO:+0000
TZNAME:UTC
DTSTART:20250101T000000
END:STANDARD
END:VTIMEZONE
BEGIN:VEVENT
DTSTART;TZID=UTC:20260519T190000
DTEND;TZID=UTC:20260519T203000
DTSTAMP:20260423T152454
CREATED:20260121T142823Z
LAST-MODIFIED:20260121T142824Z
UID:751-1779217200-1779222600@www.snowdensmill.org
SUMMARY:Snowden's Mill HOA Board Meeting (May 2026)
DESCRIPTION:Join Zoom Meeting\nMeeting ID: 712 122 8682 – Passcode: 433301\n(301) 715-8592
URL:http://www.snowdensmill.org/event/snowdens-mill-hoa-board-meeting-may-2026/
LOCATION:Online
CATEGORIES:Board Meetings
ATTACH;FMTTYPE=image/png:http://www.snowdensmill.org/wp-content/uploads/2026/01/SnowdensMill-Logo.png
ORGANIZER;CN="Charles Lasky":MAILTO:clasky@comsource.com
END:VEVENT
BEGIN:VEVENT
DTSTART;TZID=UTC:20260623T190000
DTEND;TZID=UTC:20260623T203000
DTSTAMP:20260423T152454
CREATED:20260121T142813Z
LAST-MODIFIED:20260121T142814Z
UID:752-1782241200-1782246600@www.snowdensmill.org
SUMMARY:Snowden's Mill HOA Board Meeting (June 2026)
DESCRIPTION:Join Zoom Meeting\nMeeting ID: 712 122 8682 – Passcode: 433301\n(301) 715-8592
URL:http://www.snowdensmill.org/event/snowdens-mill-hoa-board-meeting-june-2026/
LOCATION:Online
CATEGORIES:Board Meetings
ATTACH;FMTTYPE=image/png:http://www.snowdensmill.org/wp-content/uploads/2026/01/SnowdensMill-Logo.png
ORGANIZER;CN="Charles Lasky":MAILTO:clasky@comsource.com
END:VEVENT
BEGIN:VEVENT
DTSTART;TZID=UTC:20260721T190000
DTEND;TZID=UTC:20260721T203000
DTSTAMP:20260423T152454
CREATED:20260121T142801Z
LAST-MODIFIED:20260121T142802Z
UID:753-1784660400-1784665800@www.snowdensmill.org
SUMMARY:Snowden's Mill HOA Board Meeting (July 2026)
DESCRIPTION:Join Zoom Meeting\nMeeting ID: 712 122 8682 – Passcode: 433301\n(301) 715-8592
URL:http://www.snowdensmill.org/event/snowdens-mill-hoa-board-meeting-july-2026/
LOCATION:Online
CATEGORIES:Board Meetings
ATTACH;FMTTYPE=image/png:http://www.snowdensmill.org/wp-content/uploads/2026/01/SnowdensMill-Logo.png
ORGANIZER;CN="Charles Lasky":MAILTO:clasky@comsource.com
END:VEVENT
BEGIN:VEVENT
DTSTART;TZID=UTC:20260818T190000
DTEND;TZID=UTC:20260818T203000
DTSTAMP:20260423T152454
CREATED:20260121T142751Z
LAST-MODIFIED:20260121T142751Z
UID:754-1787079600-1787085000@www.snowdensmill.org
SUMMARY:Snowden's Mill HOA Board Meeting (August 2026)
DESCRIPTION:Join Zoom Meeting\nMeeting ID: 712 122 8682 – Passcode: 433301\n(301) 715-8592
URL:http://www.snowdensmill.org/event/snowdens-mill-hoa-board-meeting-august-2026/
LOCATION:Online
CATEGORIES:Board Meetings
ATTACH;FMTTYPE=image/png:http://www.snowdensmill.org/wp-content/uploads/2026/01/SnowdensMill-Logo.png
ORGANIZER;CN="Charles Lasky":MAILTO:clasky@comsource.com
END:VEVENT
BEGIN:VEVENT
DTSTART;TZID=UTC:20260915T190000
DTEND;TZID=UTC:20260915T203000
DTSTAMP:20260423T152454
CREATED:20260121T142739Z
LAST-MODIFIED:20260121T142740Z
UID:755-1789498800-1789504200@www.snowdensmill.org
SUMMARY:Snowden's Mill HOA Board Meeting (September 2026)
DESCRIPTION:Join Zoom Meeting\nMeeting ID: 712 122 8682 – Passcode: 433301\n(301) 715-8592
URL:http://www.snowdensmill.org/event/snowdens-mill-hoa-board-meeting-september-2026/
LOCATION:Online
CATEGORIES:Board Meetings
ATTACH;FMTTYPE=image/png:http://www.snowdensmill.org/wp-content/uploads/2026/01/SnowdensMill-Logo.png
ORGANIZER;CN="Charles Lasky":MAILTO:clasky@comsource.com
END:VEVENT
BEGIN:VEVENT
DTSTART;TZID=UTC:20261020T190000
DTEND;TZID=UTC:20261020T203000
DTSTAMP:20260423T152454
CREATED:20260121T142725Z
LAST-MODIFIED:20260121T142725Z
UID:756-1792522800-1792528200@www.snowdensmill.org
SUMMARY:Snowden's Mill HOA Board Meeting (October 2026)
DESCRIPTION:Join Zoom Meeting\nMeeting ID: 712 122 8682 – Passcode: 433301\n(301) 715-8592
URL:http://www.snowdensmill.org/event/snowdens-mill-hoa-board-meeting-october-2026/
LOCATION:Online
CATEGORIES:Board Meetings
ATTACH;FMTTYPE=image/png:http://www.snowdensmill.org/wp-content/uploads/2026/01/SnowdensMill-Logo.png
ORGANIZER;CN="Charles Lasky":MAILTO:clasky@comsource.com
END:VEVENT
BEGIN:VEVENT
DTSTART;TZID=UTC:20261117T190000
DTEND;TZID=UTC:20261117T203000
DTSTAMP:20260423T152454
CREATED:20260121T142713Z
LAST-MODIFIED:20260121T142714Z
UID:757-1794942000-1794947400@www.snowdensmill.org
SUMMARY:Snowden's Mill HOA Board Meeting (November 2026) - Budget Meeting
DESCRIPTION:Join Zoom Meeting\nMeeting ID: 712 122 8682 – Passcode: 433301\n(301) 715-8592
URL:http://www.snowdensmill.org/event/snowdens-mill-hoa-board-meeting-november-2026-budget-meeting/
LOCATION:Online
CATEGORIES:Board Meetings
ATTACH;FMTTYPE=image/png:http://www.snowdensmill.org/wp-content/uploads/2026/01/SnowdensMill-Logo.png
ORGANIZER;CN="Charles Lasky":MAILTO:clasky@comsource.com
END:VEVENT
BEGIN:VEVENT
DTSTART;TZID=UTC:20261215T190000
DTEND;TZID=UTC:20261215T203000
DTSTAMP:20260423T152454
CREATED:20260121T142637Z
LAST-MODIFIED:20260121T142637Z
UID:758-1797361200-1797366600@www.snowdensmill.org
SUMMARY:Snowden's Mill HOA Board Meeting (December 2026)
DESCRIPTION:Join Zoom Meeting\nMeeting ID: 712 122 8682 – Passcode: 433301\n(301) 715-8592
URL:http://www.snowdensmill.org/event/snowdens-mill-hoa-board-meeting-december-2026/
LOCATION:Online
CATEGORIES:Board Meetings
ATTACH;FMTTYPE=image/png:http://www.snowdensmill.org/wp-content/uploads/2026/01/SnowdensMill-Logo.png
ORGANIZER;CN="Charles Lasky":MAILTO:clasky@comsource.com
END:VEVENT
END:VCALENDAR