BEGIN:VCALENDAR
VERSION:2.0
PRODID:-//Snowden's Mill HOA - ECPv6.15.20//NONSGML v1.0//EN
CALSCALE:GREGORIAN
METHOD:PUBLISH
X-ORIGINAL-URL:http://www.snowdensmill.org
X-WR-CALDESC:Events for Snowden's Mill HOA
REFRESH-INTERVAL;VALUE=DURATION:PT1H
X-Robots-Tag:noindex
X-PUBLISHED-TTL:PT1H
BEGIN:VTIMEZONE
TZID:UTC
BEGIN:STANDARD
TZOFFSETFROM:+0000
TZOFFSETTO:+0000
TZNAME:UTC
DTSTART:20180101T000000
END:STANDARD
END:VTIMEZONE
BEGIN:VEVENT
DTSTART;TZID=UTC:20211221T190000
DTEND;TZID=UTC:20211221T203000
DTSTAMP:20260423T220139
CREATED:20210120T165710Z
LAST-MODIFIED:20210307T183415Z
UID:377-1640113200-1640118600@www.snowdensmill.org
SUMMARY:December SMHOA Board Meeting
DESCRIPTION:The Snowdens Mill Board of Directors have scheduled Board meeting dates for the 2021 calendar year. The meetings will be held virtually at 7:00PM. The Call-in information is below. \nDial-in number (US): (425) 436-6381\nAccess code: 365233#
URL:http://www.snowdensmill.org/event/december-smhoa-board-meeting/
CATEGORIES:Board Meetings
END:VEVENT
BEGIN:VEVENT
DTSTART;TZID=UTC:20211116T190000
DTEND;TZID=UTC:20211116T203000
DTSTAMP:20260423T220139
CREATED:20210120T165627Z
LAST-MODIFIED:20210307T183412Z
UID:375-1637089200-1637094600@www.snowdensmill.org
SUMMARY:November SMHOA Board Meeting
DESCRIPTION:The Snowdens Mill Board of Directors have scheduled Board meeting dates for the 2021 calendar year. The meetings will be held virtually at 7:00PM. The Call-in information is below. \nDial-in number (US): (425) 436-6381\nAccess code: 365233#
URL:http://www.snowdensmill.org/event/november-smhoa-board-meeting-2/
CATEGORIES:Board Meetings
END:VEVENT
BEGIN:VEVENT
DTSTART;TZID=UTC:20211019T190000
DTEND;TZID=UTC:20211019T203000
DTSTAMP:20260423T220139
CREATED:20210120T165545Z
LAST-MODIFIED:20210307T183407Z
UID:373-1634670000-1634675400@www.snowdensmill.org
SUMMARY:October SMHOA Board Meeting
DESCRIPTION:The Snowdens Mill Board of Directors have scheduled Board meeting dates for the 2021 calendar year. The meetings will be held virtually at 7:00PM. The Call-in information is below. \nDial-in number (US): (425) 436-6381\nAccess code: 365233#
URL:http://www.snowdensmill.org/event/october-smhoa-board-meeting-2/
CATEGORIES:Board Meetings
END:VEVENT
BEGIN:VEVENT
DTSTART;TZID=UTC:20210921T190000
DTEND;TZID=UTC:20210921T203000
DTSTAMP:20260423T220139
CREATED:20210120T165506Z
LAST-MODIFIED:20210307T183401Z
UID:371-1632250800-1632256200@www.snowdensmill.org
SUMMARY:September SMHOA Board Meeting
DESCRIPTION:The Snowdens Mill Board of Directors have scheduled Board meeting dates for the 2021 calendar year. The meetings will be held virtually at 7:00PM. The Call-in information is below. \nDial-in number (US): (425) 436-6381\nAccess code: 365233#
URL:http://www.snowdensmill.org/event/september-smhoa-board-meeting/
CATEGORIES:Board Meetings
END:VEVENT
BEGIN:VEVENT
DTSTART;TZID=UTC:20210720T190000
DTEND;TZID=UTC:20210720T203000
DTSTAMP:20260423T220139
CREATED:20210120T165421Z
LAST-MODIFIED:20210307T183357Z
UID:369-1626807600-1626813000@www.snowdensmill.org
SUMMARY:July SMHOA Board Meeting
DESCRIPTION:The Snowdens Mill Board of Directors have scheduled Board meeting dates for the 2021 calendar year. The meetings will be held virtually at 7:00PM. The Call-in information is below. \nDial-in number (US): (425) 436-6381\nAccess code: 365233#
URL:http://www.snowdensmill.org/event/july-smhoa-board-meeting/
CATEGORIES:Board Meetings
END:VEVENT
BEGIN:VEVENT
DTSTART;TZID=UTC:20210615T190000
DTEND;TZID=UTC:20210615T203000
DTSTAMP:20260423T220139
CREATED:20210120T165339Z
LAST-MODIFIED:20210307T183352Z
UID:367-1623783600-1623789000@www.snowdensmill.org
SUMMARY:June SMHOA Board Meeting
DESCRIPTION:The Snowdens Mill Board of Directors have scheduled Board meeting dates for the 2021 calendar year. The meetings will be held virtually at 7:00PM. The Call-in information is below. \nDial-in number (US): (425) 436-6381\nAccess code: 365233#
URL:http://www.snowdensmill.org/event/june-smhoa-board-meeting/
CATEGORIES:Board Meetings
END:VEVENT
BEGIN:VEVENT
DTSTART;TZID=UTC:20210518T190000
DTEND;TZID=UTC:20210518T203000
DTSTAMP:20260423T220139
CREATED:20210120T165243Z
LAST-MODIFIED:20210307T183345Z
UID:365-1621364400-1621369800@www.snowdensmill.org
SUMMARY:May SMHOA Board Meeting
DESCRIPTION:The Snowdens Mill Board of Directors have scheduled Board meeting dates for the 2021 calendar year. The meetings will be held virtually at 7:00PM. The Call-in information is below. \nDial-in number (US): (425) 436-6381\nAccess code: 365233#
URL:http://www.snowdensmill.org/event/may-smhoa-board-meeting/
CATEGORIES:Board Meetings
END:VEVENT
BEGIN:VEVENT
DTSTART;TZID=UTC:20210420T190000
DTEND;TZID=UTC:20210420T203000
DTSTAMP:20260423T220139
CREATED:20210120T165144Z
LAST-MODIFIED:20210307T183339Z
UID:363-1618945200-1618950600@www.snowdensmill.org
SUMMARY:April SMHOA Board Meeting
DESCRIPTION:The Snowdens Mill Board of Directors have scheduled Board meeting dates for the 2021 calendar year. The meetings will be held virtually at 7:00PM. The Call-in information is below. \nDial-in number (US): (425) 436-6381\nAccess code: 365233#
URL:http://www.snowdensmill.org/event/april-smhoa-board-meeting/
CATEGORIES:Board Meetings
END:VEVENT
BEGIN:VEVENT
DTSTART;TZID=UTC:20210316T190000
DTEND;TZID=UTC:20210316T203000
DTSTAMP:20260423T220139
CREATED:20210120T165056Z
LAST-MODIFIED:20210307T183329Z
UID:361-1615921200-1615926600@www.snowdensmill.org
SUMMARY:March SMHOA Board Meeting
DESCRIPTION:The Snowdens Mill Board of Directors have scheduled Board meeting dates for the 2021 calendar year. The meetings will be held virtually at 7:00PM. The Call-in information is below. \nDial-in number (US): (425) 436-6381\nAccess code: 365233#
URL:http://www.snowdensmill.org/event/march-smhoa-board-meeting/
CATEGORIES:Board Meetings
END:VEVENT
BEGIN:VEVENT
DTSTART;TZID=UTC:20210216T193000
DTEND;TZID=UTC:20210216T203000
DTSTAMP:20260423T220139
CREATED:20210120T165004Z
LAST-MODIFIED:20210120T165004Z
UID:359-1613503800-1613507400@www.snowdensmill.org
SUMMARY:February SMHOA Board Meeting
DESCRIPTION:The Snowdens Mill Board of Directors have scheduled Board meeting dates for the 2021 calendar year. The meetings will be held virtually at 7:30PM. The Call-in information is below. \nDial-in number (US): (425) 436-6381\nAccess code: 365233#
URL:http://www.snowdensmill.org/event/february-smhoa-board-meeting/
CATEGORIES:Board Meetings
END:VEVENT
BEGIN:VEVENT
DTSTART;TZID=UTC:20201117T190000
DTEND;TZID=UTC:20201117T203000
DTSTAMP:20260423T220139
CREATED:20201021T185431Z
LAST-MODIFIED:20201021T185431Z
UID:354-1605639600-1605645000@www.snowdensmill.org
SUMMARY:November SMHOA Board Meeting
DESCRIPTION:Dial-in number (US): (425) 436-6381\nAccess code: 365233# \nInternational dial-in numbers: https://fccdl.in/i/charleslasky \nOnline meeting ID: charleslasky \nJoin the online meeting: https://join.freeconferencecall.com/charleslasky
URL:http://www.snowdensmill.org/event/november-smhoa-board-meeting/
CATEGORIES:Board Meetings
ORGANIZER;CN="Charles Lasky":MAILTO:clasky@comsource.com
END:VEVENT
BEGIN:VEVENT
DTSTART;TZID=UTC:20201020T190000
DTEND;TZID=UTC:20201020T210000
DTSTAMP:20260423T220139
CREATED:20201015T194824Z
LAST-MODIFIED:20201015T194949Z
UID:351-1603220400-1603227600@www.snowdensmill.org
SUMMARY:October SMHOA Board Meeting
DESCRIPTION:SMHOA Teleconference\nTue\, Oct 20\, 2020 7:00 PM – 9:00 PM (EDT) \nPlease join my meeting from your computer\, tablet or smartphone.\nhttps://global.gotomeeting.com/join/688039909 \nYou can also dial in using your phone.\nUnited States (Toll Free): 1 877 309 2073\nUnited States: +1 (646) 749-3129 \nAccess Code: 688-039-909
URL:http://www.snowdensmill.org/event/october-smhoa-board-meeting/
CATEGORIES:Board Meetings
END:VEVENT
BEGIN:VEVENT
DTSTART;TZID=UTC:20200818T190000
DTEND;TZID=UTC:20200818T210000
DTSTAMP:20260423T220139
CREATED:20200722T010733Z
LAST-MODIFIED:20200722T010733Z
UID:345-1597777200-1597784400@www.snowdensmill.org
SUMMARY:August SMHOA Board Meeting
DESCRIPTION:SMHOA MEETING\nTue\, Aug 18\, 2020 7:00 PM – 9:00 PM (EDT) \nPlease join my meeting from your computer\, tablet or smartphone.\nhttps://global.gotomeeting.com/join/119039621 \nYou can also dial in using your phone.\nUnited States (Toll Free): 1 877 309 2073\nUnited States: +1 (646) 749-3129 \nAccess Code: 119-039-621
URL:http://www.snowdensmill.org/event/august-smhoa-board-meeting/
CATEGORIES:Board Meetings
END:VEVENT
BEGIN:VEVENT
DTSTART;TZID=UTC:20200721T190000
DTEND;TZID=UTC:20200721T210000
DTSTAMP:20260423T220139
CREATED:20200617T225434Z
LAST-MODIFIED:20200721T222246Z
UID:338-1595358000-1595365200@www.snowdensmill.org
SUMMARY:July\, 2020 Monthly HOA Meeting
DESCRIPTION:SM Monthly Meeting\nTue\, Jul 21\, 2020 7:00 PM – 9:00 PM (EDT) \nPlease join my meeting from your computer\, tablet or smartphone.\nhttps://www.gotomeet.me/TracyShahan  \nYou can also dial in using your phone.\nUnited States (Toll Free): 1 877 568 4106\nUnited States: +1 (646) 749-3129 \nAccess Code: 981-342-581
URL:http://www.snowdensmill.org/event/monthly-hoa-meeting/
CATEGORIES:Board Meetings
END:VEVENT
BEGIN:VEVENT
DTSTART;TZID=UTC:20200616T190000
DTEND;TZID=UTC:20200616T210000
DTSTAMP:20260423T220139
CREATED:20200520T005920Z
LAST-MODIFIED:20200520T010135Z
UID:332-1592334000-1592341200@www.snowdensmill.org
SUMMARY:June\, 2020 Virtual Board Meeting
DESCRIPTION:United States (Toll Free): 1 877 309 2073 / United States: +1 (646) 749-3129 \nAccess Code: 462-532-205
URL:http://www.snowdensmill.org/event/june-2020-virtual-board-meeting/
CATEGORIES:Board Meetings
END:VEVENT
BEGIN:VEVENT
DTSTART;TZID=UTC:20191217T193000
DTEND;TZID=UTC:20191217T210000
DTSTAMP:20260423T220139
CREATED:20190604T012313Z
LAST-MODIFIED:20190604T012313Z
UID:108-1576611000-1576616400@www.snowdensmill.org
SUMMARY:December Board Meeting
DESCRIPTION:Board meetings are open to the public and we welcome homeowners.
URL:http://www.snowdensmill.org/event/december-board-meeting/
LOCATION:Montgomery County 3rd District Police Station\, 1002 Milestone Dr\,\, Colesville\, MD\, 20904\, United States
CATEGORIES:Board Meetings
ATTACH;FMTTYPE=image/png:http://www.snowdensmill.org/wp-content/uploads/2019/06/3DStation.png
END:VEVENT
BEGIN:VEVENT
DTSTART;TZID=UTC:20191119T193000
DTEND;TZID=UTC:20191119T210000
DTSTAMP:20260423T220139
CREATED:20190604T012227Z
LAST-MODIFIED:20191101T124940Z
UID:106-1574191800-1574197200@www.snowdensmill.org
SUMMARY:November Board Meeting
DESCRIPTION:Board meetings are open to the public and we welcome homeowners.
URL:http://www.snowdensmill.org/event/november-board-meeting/
LOCATION:Paint Branch High School\, 14121 Old Columbia Pike\, Burtonsville\, MD\, 20866\, United States
CATEGORIES:Board Meetings
ATTACH;FMTTYPE=image/png:http://www.snowdensmill.org/wp-content/uploads/2019/06/3DStation.png
END:VEVENT
BEGIN:VEVENT
DTSTART;TZID=UTC:20191015T193000
DTEND;TZID=UTC:20191015T210000
DTSTAMP:20260423T220139
CREATED:20190604T012145Z
LAST-MODIFIED:20190604T012145Z
UID:104-1571167800-1571173200@www.snowdensmill.org
SUMMARY:October Board Meeting
DESCRIPTION:Board meetings are open to the public and we welcome homeowners.
URL:http://www.snowdensmill.org/event/october-board-meeting/
LOCATION:Montgomery County 3rd District Police Station\, 1002 Milestone Dr\,\, Colesville\, MD\, 20904\, United States
CATEGORIES:Board Meetings
ATTACH;FMTTYPE=image/png:http://www.snowdensmill.org/wp-content/uploads/2019/06/3DStation.png
END:VEVENT
BEGIN:VEVENT
DTSTART;TZID=UTC:20190917T193000
DTEND;TZID=UTC:20190917T210000
DTSTAMP:20260423T220139
CREATED:20190604T012104Z
LAST-MODIFIED:20190604T012104Z
UID:102-1568748600-1568754000@www.snowdensmill.org
SUMMARY:September Board Meeting
DESCRIPTION:Board meetings are open to the public and we welcome homeowners.
URL:http://www.snowdensmill.org/event/september-board-meeting/
LOCATION:Montgomery County 3rd District Police Station\, 1002 Milestone Dr\,\, Colesville\, MD\, 20904\, United States
CATEGORIES:Board Meetings
ATTACH;FMTTYPE=image/png:http://www.snowdensmill.org/wp-content/uploads/2019/06/3DStation.png
END:VEVENT
BEGIN:VEVENT
DTSTART;TZID=UTC:20190820T193000
DTEND;TZID=UTC:20190820T210000
DTSTAMP:20260423T220139
CREATED:20190604T012007Z
LAST-MODIFIED:20190717T122552Z
UID:100-1566329400-1566334800@www.snowdensmill.org
SUMMARY:August Board Meeting NOTE: [CANCELLED]
DESCRIPTION:NOTE: This meeting has been cancelled. Please contact us if you have any questions.
URL:http://www.snowdensmill.org/event/august-board-meeting/
LOCATION:Montgomery County 3rd District Police Station\, 1002 Milestone Dr\,\, Colesville\, MD\, 20904\, United States
CATEGORIES:Board Meetings
ATTACH;FMTTYPE=image/png:http://www.snowdensmill.org/wp-content/uploads/2019/06/3DStation.png
END:VEVENT
BEGIN:VEVENT
DTSTART;TZID=UTC:20190716T193000
DTEND;TZID=UTC:20190716T210000
DTSTAMP:20260423T220139
CREATED:20190604T011847Z
LAST-MODIFIED:20190604T011854Z
UID:96-1563305400-1563310800@www.snowdensmill.org
SUMMARY:July Board Meeting
DESCRIPTION:
URL:http://www.snowdensmill.org/event/board-meeting-2/
LOCATION:Montgomery County 3rd District Police Station\, 1002 Milestone Dr\,\, Colesville\, MD\, 20904\, United States
CATEGORIES:Board Meetings
ATTACH;FMTTYPE=image/png:http://www.snowdensmill.org/wp-content/uploads/2019/06/3DStation.png
END:VEVENT
BEGIN:VEVENT
DTSTART;TZID=UTC:20190618T193000
DTEND;TZID=UTC:20190618T210000
DTSTAMP:20260423T220139
CREATED:20190604T011647Z
LAST-MODIFIED:20190604T011908Z
UID:90-1560886200-1560891600@www.snowdensmill.org
SUMMARY:June Board Meeting
DESCRIPTION:Board meetings are open to the public and we welcome homeowners.
URL:http://www.snowdensmill.org/event/board-meeting/
LOCATION:Montgomery County 3rd District Police Station\, 1002 Milestone Dr\,\, Colesville\, MD\, 20904\, United States
CATEGORIES:Board Meetings
ATTACH;FMTTYPE=image/png:http://www.snowdensmill.org/wp-content/uploads/2019/06/3DStation.png
END:VEVENT
END:VCALENDAR